BEGIN:VCALENDAR
VERSION:2.0
PRODID:spatie/icalendar-generator
DESCRIPTION:Veranstaltungen von TSV Nestwerk Münsterland e.V.
X-WR-CALDESC:Veranstaltungen von TSV Nestwerk Münsterland e.V.
REFRESH-INTERVAL;VALUE=DURATION:PT1440M
X-PUBLISHED-TTL:PT1440M
BEGIN:VTIMEZONE
TZID:Europe/Berlin
BEGIN:DAYLIGHT
DTSTART:20240331T020000Z
TZOFFSETFROM:+0100
TZOFFSETTO:+0200
END:DAYLIGHT
BEGIN:STANDARD
DTSTART:20241027T030000Z
TZOFFSETFROM:+0200
TZOFFSETTO:+0100
END:STANDARD
END:VTIMEZONE
BEGIN:VTIMEZONE
TZID:UTC
BEGIN:STANDARD
DTSTART:20250727T084944Z
TZOFFSETFROM:+0000
TZOFFSETTO:+0000
END:STANDARD
END:VTIMEZONE
BEGIN:VEVENT
UID:1419-123
DTSTAMP:20260423T084944Z
SUMMARY:Schulung: Erste Hilfe für Igel
LOCATION:
ORGANIZER;CN=Kristina:MAILTO:kristina@nestwerk-ms.de
DTSTART;TZID=Europe/Berlin:20240826T190000
DTEND;TZID=Europe/Berlin:20240826T210000
X-ALT-DESC;FMTTYPE=TEXT/HTML:Immer öfter werden kranke und verletzte Igel 
 gefunden\, die medizinische Hilfe brauchen. Die Igel-Schulung richtet sich
  an dich\, wenn du Igel-Notfälle erkennen und die gesundheitliche Lage de
 r Tiere einschätzen möchtest. Nach der Schulung weißt du\, wie du einen
  Igel sicherst\, erstversorgst und unterbringst\, bis er in eine Pflegeste
 lle gebracht werden kann. Zudem werden wichtige Aspekte&amp;hellip\;
CATEGORIES:Schulung
URL;VALUE=URI:https://nestwerk-ms.de/veranstaltungen/schulung-erste-hilfe-f
 uer-igel/
METHOD:PUBLISH
END:VEVENT
END:VCALENDAR