BEGIN:VCALENDAR
VERSION:2.0
PRODID:spatie/icalendar-generator
DESCRIPTION:Veranstaltungen von TSV Nestwerk Münsterland e.V.
X-WR-CALDESC:Veranstaltungen von TSV Nestwerk Münsterland e.V.
REFRESH-INTERVAL;VALUE=DURATION:PT1440M
X-PUBLISHED-TTL:PT1440M
BEGIN:VTIMEZONE
TZID:Europe/Berlin
BEGIN:DAYLIGHT
DTSTART:20210328T020000Z
TZOFFSETFROM:+0100
TZOFFSETTO:+0200
END:DAYLIGHT
BEGIN:STANDARD
DTSTART:20211031T030000Z
TZOFFSETFROM:+0200
TZOFFSETTO:+0100
END:STANDARD
BEGIN:DAYLIGHT
DTSTART:20220327T020000Z
TZOFFSETFROM:+0100
TZOFFSETTO:+0200
END:DAYLIGHT
END:VTIMEZONE
BEGIN:VTIMEZONE
TZID:UTC
BEGIN:STANDARD
DTSTART:20250729T102622Z
TZOFFSETFROM:+0000
TZOFFSETTO:+0000
END:STANDARD
END:VTIMEZONE
BEGIN:VEVENT
UID:384-29
DTSTAMP:20260425T102622Z
SUMMARY:Infostand vor dem Fressnapf Münster-Süd
LOCATION:
ORGANIZER;CN=Sarah:MAILTO:sarah@nestwerk-ms.de
DTSTART;TZID=Europe/Berlin:20211023T100000
DTEND;TZID=Europe/Berlin:20211023T160000
X-ALT-DESC;FMTTYPE=TEXT/HTML:Am 23.10. sind wir mit unserem Infostand vor d
 er Fressnapf-Filiale Münster-Süd in der Nähe der Tierarztpraxis \"AniDo
 c\" vertreten und sammeln Unterschriften für unsere Petition für eine Wi
 ldtierauffangstation in Münster. Kommt gern vorbei oder unterschreibt uns
 ere Petition online!
CATEGORIES:Allgemein
URL;VALUE=URI:https://nestwerk-ms.de/veranstaltungen/infostand-vor-dem-fres
 snapf-muenster-sued/
METHOD:PUBLISH
END:VEVENT
END:VCALENDAR